BEGIN:VCALENDAR
VERSION:2.0
PRODID:DPCALENDAR
CALSCALE:GREGORIAN
BEGIN:VTIMEZONE
TZID:Europe/Berlin
X-MICROSOFT-CDO-TZID:4
BEGIN:STANDARD
DTSTART:20251026T010000
TZOFFSETFROM:+0200
TZOFFSETTO:+0100
TZNAME:CET
END:STANDARD
BEGIN:STANDARD
DTSTART:20261025T010000
TZOFFSETFROM:+0200
TZOFFSETTO:+0100
TZNAME:CET
END:STANDARD
BEGIN:DAYLIGHT
DTSTART:20260329T010000
TZOFFSETFROM:+0100
TZOFFSETTO:+0200
TZNAME:CEST
END:DAYLIGHT
END:VTIMEZONE
X-WR-TIMEZONE:Europe/Berlin
BEGIN:VEVENT
DTSTART;TZID=Europe/Berlin:20160305T180000
DTEND;TZID=Europe/Berlin:20160305T200000
UID:2770583A-4E8D-4E68-9A0D-134B6A9B0371
SUMMARY:Tanztheater "Schlümpfe"
CREATED:20160129T172755Z
DTSTAMP:20160129T172755Z
URL:https://www.tsv-holzheim.de/index.php/component/dpcalendar/event/24?calid=22
DESCRIPTION:Rollsportabteilung
X-ALT-DESC;FMTTYPE=text/html:<p>Rollsportabteilung</p>
LAST-MODIFIED:20160129T173020Z
SEQUENCE:145
X-ACCESS:1
X-HITS:685
X-COLOR:B40DFC
X-SHOW-END-TIME:1
END:VEVENT
BEGIN:VEVENT
DTSTART;TZID=Europe/Berlin:20170318T180000
DTEND;TZID=Europe/Berlin:20170318T200000
UID:4CA85B6A-054B-44D3-982E-FE271E3DFBB8
SUMMARY:"Apachenschatz" Musical auf Rollen 
CREATED:20161024T192304Z
DTSTAMP:20161024T192304Z
URL:https://www.tsv-holzheim.de/index.php/component/dpcalendar/event/114?calid=22
LAST-MODIFIED:20161024T192446Z
SEQUENCE:102
X-ACCESS:1
X-HITS:793
X-COLOR:B40DFC
X-SHOW-END-TIME:1
END:VEVENT
BEGIN:VEVENT
DTSTART;TZID=Europe/Berlin:20240316T173000
DTEND;TZID=Europe/Berlin:20240316T190000
UID:84F94841-0AA9-497E-9FDB-19C624F902C7
SUMMARY:Blaues Abenteuer
CREATED:20231214T193509Z
DTSTAMP:20231214T193509Z
URL:https://www.tsv-holzheim.de/index.php/component/dpcalendar/event/775?calid=22
DESCRIPTION:Die Rollsportabteilung veranstaltet das Tanztheater "Blaues Abenteuer" frei nach dem Film "Die Schlümpfe" auf Rollen. 
X-ALT-DESC;FMTTYPE=text/html:<p>Die Rollsportabteilung veranstaltet das Tanztheater "Blaues Abenteuer" frei nach dem Film "Die Schlümpfe" auf Rollen. </p>
LAST-MODIFIED:20240115T203629Z
SEQUENCE:2768480
X-ACCESS:1
X-HITS:964
X-COLOR:B40DFC
X-SHOW-END-TIME:1
END:VEVENT
END:VCALENDAR