BEGIN:VCALENDAR
VERSION:2.0
PRODID:DPCALENDAR
CALSCALE:GREGORIAN
BEGIN:VTIMEZONE
TZID:Europe/Berlin
X-MICROSOFT-CDO-TZID:4
BEGIN:STANDARD
DTSTART:20251026T010000
TZOFFSETFROM:+0200
TZOFFSETTO:+0100
TZNAME:CET
END:STANDARD
BEGIN:STANDARD
DTSTART:20261025T010000
TZOFFSETFROM:+0200
TZOFFSETTO:+0100
TZNAME:CET
END:STANDARD
BEGIN:DAYLIGHT
DTSTART:20260329T010000
TZOFFSETFROM:+0100
TZOFFSETTO:+0200
TZNAME:CEST
END:DAYLIGHT
END:VTIMEZONE
X-WR-TIMEZONE:Europe/Berlin
BEGIN:VEVENT
DTSTART;VALUE=DATE:20160312
DTEND;VALUE=DATE:20160313
UID:7B40539B-D59D-412E-80BF-169E9B9BDF45
SUMMARY:Fitnesstag Turnabteilung
CREATED:20151219T133040Z
DTSTAMP:20151219T133040Z
URL:images/stories/turnen/flyer_fitnesstag_2016_druck.pdf
DESCRIPTION:Flyer: Fitnesstag\NMehr Info finden Sie hier:http://www.tsv-holzheim.de/index.php/abteilungen/turnen
X-ALT-DESC;FMTTYPE=text/html:<p>Flyer: <a href="images/stories/turnen/flyer_fitnesstag_2016_druck.pdf" target="_blank" title="Fitnesstag">Fitnesstag</a></p><p>Mehr Info finden Sie hier:<br /><a href="index.php/abteilungen/turnen">http://www.tsv-holzheim.de/index.php/abteilungen/turnen</a></p>
LAST-MODIFIED:20160204T205921Z
SEQUENCE:4087721
X-ACCESS:1
X-HITS:632
X-COLOR:F5A300
X-SHOW-END-TIME:1
END:VEVENT
BEGIN:VEVENT
DTSTART;TZID=Europe/Berlin:20170325T090000
DTEND;TZID=Europe/Berlin:20170325T160000
UID:C45343D8-08B4-474E-86C8-8B1CD7367E90
SUMMARY:Fitnesstag
CREATED:20170114T144712Z
DTSTAMP:20170114T144712Z
URL:https://www.tsv-holzheim.de/index.php/component/dpcalendar/event/138?calid=20
X-ACCESS:1
X-HITS:771
X-COLOR:F5A300
X-SHOW-END-TIME:1
END:VEVENT
BEGIN:VEVENT
DTSTART;VALUE=DATE:20180303
DTEND;VALUE=DATE:20180304
UID:091E3734-D411-4366-87B9-8794303125F5
SUMMARY:Fitnesstag Turnabteilung
CREATED:20180131T172614Z
DTSTAMP:20180131T172614Z
URL:https://www.tsv-holzheim.de/index.php/component/dpcalendar/event/323?calid=20
LAST-MODIFIED:20180222T180840Z
SEQUENCE:1903346
X-ACCESS:1
X-HITS:455
X-COLOR:FF4B1F
X-SHOW-END-TIME:1
END:VEVENT
BEGIN:VEVENT
DTSTART;TZID=Europe/Berlin:20181026T193000
DTEND;TZID=Europe/Berlin:20181027T000000
UID:24576241-00DA-48A6-956C-9A9C148417C6
SUMMARY:Ladies Dance Night
CREATED:20181018T161201Z
DTSTAMP:20181018T161201Z
URL:https://www.tsv-holzheim.de/index.php/component/dpcalendar/event/398?calid=20
DESCRIPTION:Eintritt: 6,- €\NEin Glas Sekt inklusive
X-ALT-DESC;FMTTYPE=text/html:<p>Eintritt: 6,- €</p><p>Ein Glas Sekt inklusive</p>
LAST-MODIFIED:20181018T161431Z
SEQUENCE:150
LOCATION:17 Hauptstraße\, Holzheim\, Bayern 89291\, Deutschland
GEO:48.37973000;10.10696000
X-LOCATION-DISPLAYNAME:TSV Halle
X-ACCESS:1
X-HITS:637
X-COLOR:F5A300
X-SHOW-END-TIME:1
END:VEVENT
BEGIN:VEVENT
DTSTART;TZID=Europe/Berlin:20230211T100000
DTEND;TZID=Europe/Berlin:20230211T110000
UID:D1B480E7-130E-4FBB-9D03-2F103A1F2707
SUMMARY:Faschingslauf
CREATED:20230109T161830Z
DTSTAMP:20230109T161830Z
URL:https://www.tsv-holzheim.de/index.php/component/dpcalendar/event/726?calid=20
LAST-MODIFIED:20230109T161942Z
SEQUENCE:72
X-ACCESS:1
X-HITS:250
X-COLOR:F5A300
X-SHOW-END-TIME:0
END:VEVENT
BEGIN:VEVENT
DTSTART;TZID=Europe/Berlin:20240204T110000
DTEND;TZID=Europe/Berlin:20240204T120000
UID:D2A16A62-E33F-4A6E-B130-056F52785139
SUMMARY:Fasschingslauf
CREATED:20231214T193815Z
DTSTAMP:20231214T193815Z
URL:https://www.tsv-holzheim.de/index.php/component/dpcalendar/event/776?calid=20
DESCRIPTION:Verkleidung erwünscht.
X-ALT-DESC;FMTTYPE=text/html:<p>Verkleidung erwünscht.</p>
LAST-MODIFIED:20231214T195302Z
SEQUENCE:887
X-ACCESS:1
X-HITS:786
X-COLOR:F5A300
X-SHOW-END-TIME:0
END:VEVENT
END:VCALENDAR