BEGIN:VCALENDAR
VERSION:2.0
PRODID:DPCALENDAR
CALSCALE:GREGORIAN
BEGIN:VTIMEZONE
TZID:Europe/Berlin
X-MICROSOFT-CDO-TZID:4
BEGIN:STANDARD
DTSTART:20251026T010000
TZOFFSETFROM:+0200
TZOFFSETTO:+0100
TZNAME:CET
END:STANDARD
BEGIN:STANDARD
DTSTART:20261025T010000
TZOFFSETFROM:+0200
TZOFFSETTO:+0100
TZNAME:CET
END:STANDARD
BEGIN:DAYLIGHT
DTSTART:20260329T010000
TZOFFSETFROM:+0100
TZOFFSETTO:+0200
TZNAME:CEST
END:DAYLIGHT
END:VTIMEZONE
X-WR-TIMEZONE:Europe/Berlin
BEGIN:VEVENT
DTSTART;TZID=Europe/Berlin:20151205T100000
DTEND;TZID=Europe/Berlin:20151205T110000
UID:A62FDE68-7D06-48C4-9FB3-8BE11638C506
SUMMARY:Theater: Kartenvorverkauf
CREATED:20151118T215347Z
DTSTAMP:20151118T215347Z
URL:https://www.tsv-holzheim.de/index.php/component/dpcalendar/event/17?calid=17
LAST-MODIFIED:20151118T215621Z
SEQUENCE:154
LOCATION:17 Hauptstraße\, Holzheim\, Bayern 89291\, Deutschland
GEO:48.37973000;10.10696000
X-LOCATION-DISPLAYNAME:TSV Halle
X-ACCESS:1
X-HITS:380
X-COLOR:0007CC
X-SHOW-END-TIME:1
END:VEVENT
BEGIN:VEVENT
DTSTART;TZID=Europe/Berlin:20160102T193000
DTEND;TZID=Europe/Berlin:20160102T223000
UID:5D53D380-9AED-459A-8AF1-5FCD2F7EAD49
SUMMARY:"Dr Zeitbscheißer"
CREATED:20151113T123618Z
DTSTAMP:20151113T123618Z
URL:https://www.tsv-holzheim.de/index.php/component/dpcalendar/event/4?calid=17
LAST-MODIFIED:20151208T182103Z
SEQUENCE:2180685
X-ACCESS:1
X-HITS:984
X-COLOR:0007CC
X-SHOW-END-TIME:1
END:VEVENT
BEGIN:VEVENT
DTSTART;TZID=Europe/Berlin:20160103T180000
DTEND;TZID=Europe/Berlin:20160103T210000
UID:AFED78E2-DA24-46B6-A870-697F2E423F9C
SUMMARY:"Dr Zeitbscheißer"
CREATED:20151113T123618Z
DTSTAMP:20151113T123618Z
URL:https://www.tsv-holzheim.de/index.php/component/dpcalendar/event/5?calid=17
LAST-MODIFIED:20151208T182136Z
SEQUENCE:2180718
X-ACCESS:1
X-HITS:804
X-COLOR:0007CC
X-SHOW-END-TIME:1
END:VEVENT
BEGIN:VEVENT
DTSTART;TZID=Europe/Berlin:20160106T180000
DTEND;TZID=Europe/Berlin:20160106T210000
UID:1136D4F2-6D58-4948-9E9D-E38FAEAA0546
SUMMARY:"Dr Zeitbscheißer"
CREATED:20151113T123618Z
DTSTAMP:20151113T123618Z
URL:https://www.tsv-holzheim.de/index.php/component/dpcalendar/event/1?calid=17
LAST-MODIFIED:20151208T182207Z
SEQUENCE:2180749
X-ACCESS:1
X-HITS:802
X-COLOR:0007CC
X-SHOW-END-TIME:1
END:VEVENT
BEGIN:VEVENT
DTSTART;TZID=Europe/Berlin:20160108T193000
DTEND;TZID=Europe/Berlin:20160108T223000
UID:138813C2-D990-4738-AD50-3A4F6F41EBB5
SUMMARY:"Dr Zeitbscheißer"
CREATED:20151113T123618Z
DTSTAMP:20151113T123618Z
URL:https://www.tsv-holzheim.de/index.php/component/dpcalendar/event/6?calid=17
LAST-MODIFIED:20151208T182255Z
SEQUENCE:2180797
X-ACCESS:1
X-HITS:738
X-COLOR:0007CC
X-SHOW-END-TIME:1
END:VEVENT
BEGIN:VEVENT
DTSTART;TZID=Europe/Berlin:20160109T193000
DTEND;TZID=Europe/Berlin:20160109T223000
UID:E0ED60D9-DB9A-43C6-89BC-6E61807716E3
SUMMARY:"Dr Zeitbscheißer"
CREATED:20151113T123618Z
DTSTAMP:20151113T123618Z
URL:https://www.tsv-holzheim.de/index.php/component/dpcalendar/event/7?calid=17
LAST-MODIFIED:20151208T182326Z
SEQUENCE:2180828
X-ACCESS:1
X-HITS:657
X-COLOR:0007CC
X-SHOW-END-TIME:1
END:VEVENT
BEGIN:VEVENT
DTSTART;TZID=Europe/Berlin:20170106T180000
DTEND;TZID=Europe/Berlin:20170106T210000
UID:A77AE8C8-F827-4FC8-B77C-190435FE1F47
SUMMARY:Komödie: Grand Malheur
CREATED:20161211T191623Z
DTSTAMP:20161211T191623Z
URL:https://www.tsv-holzheim.de/index.php/component/dpcalendar/event/133?calid=17
LAST-MODIFIED:20161211T192019Z
SEQUENCE:236
X-ACCESS:1
X-HITS:502
X-COLOR:0007CC
X-SHOW-END-TIME:1
END:VEVENT
BEGIN:VEVENT
DTSTART;TZID=Europe/Berlin:20170107T193000
DTEND;TZID=Europe/Berlin:20170107T223000
UID:24EA22D2-BE11-400B-B39A-B3892586769A
SUMMARY:Komödie: Grand Malheur
CREATED:20161211T191732Z
DTSTAMP:20161211T191732Z
URL:https://www.tsv-holzheim.de/index.php/component/dpcalendar/event/134?calid=17
LAST-MODIFIED:20161211T192005Z
SEQUENCE:153
X-ACCESS:1
X-HITS:772
X-COLOR:0007CC
X-SHOW-END-TIME:1
END:VEVENT
BEGIN:VEVENT
DTSTART;TZID=Europe/Berlin:20170108T180000
DTEND;TZID=Europe/Berlin:20170108T210000
UID:7FC7DB06-78B2-43E3-A526-638A6D12FF61
SUMMARY:Komödie: Grand Malheur
CREATED:20161211T191905Z
DTSTAMP:20161211T191905Z
URL:https://www.tsv-holzheim.de/index.php/component/dpcalendar/event/135?calid=17
LAST-MODIFIED:20161211T192133Z
SEQUENCE:148
X-ACCESS:1
X-HITS:663
X-COLOR:0007CC
X-SHOW-END-TIME:1
END:VEVENT
BEGIN:VEVENT
DTSTART;TZID=Europe/Berlin:20170113T193000
DTEND;TZID=Europe/Berlin:20170113T223000
UID:7C286E89-A9C7-41C5-B19C-CCB4B4F4C383
SUMMARY:Kommödie: Grand Malheur
CREATED:20161211T192115Z
DTSTAMP:20161211T192115Z
URL:https://www.tsv-holzheim.de/index.php/component/dpcalendar/event/136?calid=17
X-ACCESS:1
X-HITS:744
X-COLOR:0007CC
X-SHOW-END-TIME:1
END:VEVENT
BEGIN:VEVENT
DTSTART;TZID=Europe/Berlin:20170114T193000
DTEND;TZID=Europe/Berlin:20170114T223000
UID:1AC2C64E-7614-43CB-BF3E-FD05142220CA
SUMMARY:Kommödie: Grand Malheur
CREATED:20161211T192214Z
DTSTAMP:20161211T192214Z
URL:https://www.tsv-holzheim.de/index.php/component/dpcalendar/event/137?calid=17
X-ACCESS:1
X-HITS:509
X-COLOR:0007CC
X-SHOW-END-TIME:1
END:VEVENT
BEGIN:VEVENT
DTSTART;TZID=Europe/Berlin:20180105T193000
DTEND;TZID=Europe/Berlin:20180105T220000
UID:9E821FD2-15A2-4865-9ED4-3DB3F298C66E
SUMMARY:Die Mischtkur
CREATED:20171102T193845Z
DTSTAMP:20171102T193845Z
URL:https://www.tsv-holzheim.de/index.php/component/dpcalendar/event/233?calid=17
DESCRIPTION:eine "anrüchige" dörfliche Komödie in vier Akten von\NMichael Henschke\NKurzbeschreibung: Durch die Entdeckung der Heilkräfte des Kuhmistes ist das Dorf Steinenberg zum Kurort avanciert. Man erwartet die ersten Kurgäste, die man angemessen empfangen möchte. Doch die gemeinsamen Anwendungen bei Männer und Frauen scheinen manchem moralisch bedenklich, und auch in der Beurteilung der Gastronomie gehen die Meinungen auseinander. Für den Gastwirt und Bürgermeister Eugen Trutzinger jagt ein Problem das andere; es gibt eben keine Kur ohne Nebenwirkungen.\NEine deftige Komödie, die die Lachmuskeln der Besucher wieder strapazieren wird. Wir freuen uns schon heute auf Ihren Besuch. \NIhre Theatergruppe\N"Lampenfieber"
X-ALT-DESC;FMTTYPE=text/html:<p style="text-align: center;">eine "anrüchige" dörfliche Komödie in vier Akten von</p><p style="text-align: center;"><strong>Michael Henschke</strong></p><p style="text-align: center;">Kurzbeschreibung: Durch die Entdeckung der Heilkräfte des Kuhmistes ist das Dorf Steinenberg zum Kurort avanciert. Man erwartet die ersten Kurgäste, die man angemessen empfangen möchte. Doch die gemeinsamen Anwendungen bei Männer und Frauen scheinen manchem moralisch bedenklich, und auch in der Beurteilung der Gastronomie gehen die Meinungen auseinander. Für den Gastwirt und Bürgermeister Eugen Trutzinger jagt ein Problem das andere; es gibt eben keine Kur ohne Nebenwirkungen.</p><p style="text-align: center;">Eine deftige Komödie, die die Lachmuskeln der Besucher wieder strapazieren wird. Wir freuen uns schon heute auf Ihren Besuch. </p><p style="text-align: center;"><span style="color: #000000; font-size: 12.16px;">Ihre Theatergruppe</span></p><div style="text-align: center;"><span style="color: #000000;">"Lampenfieber"</span></div>
LAST-MODIFIED:20171102T194442Z
SEQUENCE:357
LOCATION:17 Hauptstraße\, Holzheim\, Bayern 89291\, Deutschland
GEO:48.37973000;10.10696000
X-LOCATION-DISPLAYNAME:TSV Halle
X-ACCESS:1
X-HITS:551
X-COLOR:0007CC
X-SHOW-END-TIME:1
END:VEVENT
BEGIN:VEVENT
DTSTART;TZID=Europe/Berlin:20180106T193000
DTEND;TZID=Europe/Berlin:20180106T220000
UID:35FAB137-EBC5-441D-B6BB-8268041D782C
SUMMARY:Die Mischtkur
CREATED:20171102T193940Z
DTSTAMP:20171102T193940Z
URL:https://www.tsv-holzheim.de/index.php/component/dpcalendar/event/234?calid=17
DESCRIPTION:eine "anrüchige" dörfliche Komödie in vier Akten von\NMichael Henschke\NKurzbeschreibung: Durch die Entdeckung der Heilkräfte des Kuhmistes ist das Dorf Steinenberg zum Kurort avanciert. Man erwartet die ersten Kurgäste, die man angemessen empfangen möchte. Doch die gemeinsamen Anwendungen bei Männer und Frauen scheinen manchem moralisch bedenklich, und auch in der Beurteilung der Gastronomie gehen die Meinungen auseinander. Für den Gastwirt und Bürgermeister Eugen Trutzinger jagt ein Problem das andere; es gibt eben keine Kur ohne Nebenwirkungen.\NEine deftige Komödie, die die Lachmuskeln der Besucher wieder strapazieren wird. Wir freuen uns schon heute auf Ihren Besuch. \NIhre Theatergruppe\N"Lampenfieber"
X-ALT-DESC;FMTTYPE=text/html:<p style="text-align: center;">eine "anrüchige" dörfliche Komödie in vier Akten von</p><p style="text-align: center;"><strong>Michael Henschke</strong></p><p style="text-align: center;">Kurzbeschreibung: Durch die Entdeckung der Heilkräfte des Kuhmistes ist das Dorf Steinenberg zum Kurort avanciert. Man erwartet die ersten Kurgäste, die man angemessen empfangen möchte. Doch die gemeinsamen Anwendungen bei Männer und Frauen scheinen manchem moralisch bedenklich, und auch in der Beurteilung der Gastronomie gehen die Meinungen auseinander. Für den Gastwirt und Bürgermeister Eugen Trutzinger jagt ein Problem das andere; es gibt eben keine Kur ohne Nebenwirkungen.</p><p style="text-align: center;">Eine deftige Komödie, die die Lachmuskeln der Besucher wieder strapazieren wird. Wir freuen uns schon heute auf Ihren Besuch. </p><p style="text-align: center;"><span style="color: #000000; font-size: 12.16px;">Ihre Theatergruppe</span></p><div style="text-align: center;"><span style="color: #000000;">"Lampenfieber"</span></div>
LAST-MODIFIED:20171102T194646Z
SEQUENCE:426
LOCATION:17 Hauptstraße\, Holzheim\, Bayern 89291\, Deutschland
GEO:48.37973000;10.10696000
X-LOCATION-DISPLAYNAME:TSV Halle
X-ACCESS:1
X-HITS:513
X-COLOR:0007CC
X-SHOW-END-TIME:1
END:VEVENT
BEGIN:VEVENT
DTSTART;TZID=Europe/Berlin:20180107T180000
DTEND;TZID=Europe/Berlin:20180107T203000
UID:5ABADF11-8484-49F5-8AA6-1CB7A973AFA5
SUMMARY:Die Mischtkur
CREATED:20171102T194044Z
DTSTAMP:20171102T194044Z
URL:https://www.tsv-holzheim.de/index.php/component/dpcalendar/event/235?calid=17
DESCRIPTION:eine "anrüchige" dörfliche Komödie in vier Akten von\NMichael Henschke\NKurzbeschreibung: Durch die Entdeckung der Heilkräfte des Kuhmistes ist das Dorf Steinenberg zum Kurort avanciert. Man erwartet die ersten Kurgäste, die man angemessen empfangen möchte. Doch die gemeinsamen Anwendungen bei Männer und Frauen scheinen manchem moralisch bedenklich, und auch in der Beurteilung der Gastronomie gehen die Meinungen auseinander. Für den Gastwirt und Bürgermeister Eugen Trutzinger jagt ein Problem das andere; es gibt eben keine Kur ohne Nebenwirkungen.\NEine deftige Komödie, die die Lachmuskeln der Besucher wieder strapazieren wird. Wir freuen uns schon heute auf Ihren Besuch. \NIhre Theatergruppe\N"Lampenfieber"
X-ALT-DESC;FMTTYPE=text/html:<p style="text-align: center;">eine "anrüchige" dörfliche Komödie in vier Akten von</p><p style="text-align: center;"><strong>Michael Henschke</strong></p><p style="text-align: center;">Kurzbeschreibung: Durch die Entdeckung der Heilkräfte des Kuhmistes ist das Dorf Steinenberg zum Kurort avanciert. Man erwartet die ersten Kurgäste, die man angemessen empfangen möchte. Doch die gemeinsamen Anwendungen bei Männer und Frauen scheinen manchem moralisch bedenklich, und auch in der Beurteilung der Gastronomie gehen die Meinungen auseinander. Für den Gastwirt und Bürgermeister Eugen Trutzinger jagt ein Problem das andere; es gibt eben keine Kur ohne Nebenwirkungen.</p><p style="text-align: center;">Eine deftige Komödie, die die Lachmuskeln der Besucher wieder strapazieren wird. Wir freuen uns schon heute auf Ihren Besuch. </p><p style="text-align: center;"><span style="color: #000000; font-size: 12.16px;">Ihre Theatergruppe</span></p><div style="text-align: center;"><span style="color: #000000;">"Lampenfieber"</span></div>
LAST-MODIFIED:20171102T194931Z
SEQUENCE:527
LOCATION:17 Hauptstraße\, Holzheim\, Bayern 89291\, Deutschland
GEO:48.37973000;10.10696000
X-LOCATION-DISPLAYNAME:TSV Halle
X-ACCESS:1
X-HITS:487
X-COLOR:0007CC
X-SHOW-END-TIME:1
END:VEVENT
BEGIN:VEVENT
DTSTART;TZID=Europe/Berlin:20180112T193000
DTEND;TZID=Europe/Berlin:20180112T220000
UID:3AD22367-70C6-4868-8356-CC84E017689D
SUMMARY:Die Mischtkur
CREATED:20171102T194215Z
DTSTAMP:20171102T194215Z
URL:https://www.tsv-holzheim.de/index.php/component/dpcalendar/event/236?calid=17
DESCRIPTION:eine "anrüchige" dörfliche Komödie in vier Akten von\NMichael Henschke\NKurzbeschreibung: Durch die Entdeckung der Heilkräfte des Kuhmistes ist das Dorf Steinenberg zum Kurort avanciert. Man erwartet die ersten Kurgäste, die man angemessen empfangen möchte. Doch die gemeinsamen Anwendungen bei Männer und Frauen scheinen manchem moralisch bedenklich, und auch in der Beurteilung der Gastronomie gehen die Meinungen auseinander. Für den Gastwirt und Bürgermeister Eugen Trutzinger jagt ein Problem das andere; es gibt eben keine Kur ohne Nebenwirkungen.\NEine deftige Komödie, die die Lachmuskeln der Besucher wieder strapazieren wird. Wir freuen uns schon heute auf Ihren Besuch. \NIhre Theatergruppe\N"Lampenfieber"
X-ALT-DESC;FMTTYPE=text/html:<p style="text-align: center;">eine "anrüchige" dörfliche Komödie in vier Akten von</p><p style="text-align: center;"><strong>Michael Henschke</strong></p><p style="text-align: center;">Kurzbeschreibung: Durch die Entdeckung der Heilkräfte des Kuhmistes ist das Dorf Steinenberg zum Kurort avanciert. Man erwartet die ersten Kurgäste, die man angemessen empfangen möchte. Doch die gemeinsamen Anwendungen bei Männer und Frauen scheinen manchem moralisch bedenklich, und auch in der Beurteilung der Gastronomie gehen die Meinungen auseinander. Für den Gastwirt und Bürgermeister Eugen Trutzinger jagt ein Problem das andere; es gibt eben keine Kur ohne Nebenwirkungen.</p><p style="text-align: center;">Eine deftige Komödie, die die Lachmuskeln der Besucher wieder strapazieren wird. Wir freuen uns schon heute auf Ihren Besuch. </p><p style="text-align: center;"><span style="color: #000000; font-size: 12.16px;">Ihre Theatergruppe</span></p><div style="text-align: center;"><span style="color: #000000;">"Lampenfieber"</span></div>
LAST-MODIFIED:20171102T194755Z
SEQUENCE:340
LOCATION:17 Hauptstraße\, Holzheim\, Bayern 89291\, Deutschland
GEO:48.37973000;10.10696000
X-LOCATION-DISPLAYNAME:TSV Halle
X-ACCESS:1
X-HITS:475
X-COLOR:0007CC
X-SHOW-END-TIME:1
END:VEVENT
BEGIN:VEVENT
DTSTART;TZID=Europe/Berlin:20180113T193000
DTEND;TZID=Europe/Berlin:20180113T220000
UID:301ED508-73D0-44DC-A40E-C495E66D9B01
SUMMARY:Die Mischtkur
CREATED:20171102T194251Z
DTSTAMP:20171102T194251Z
URL:https://www.tsv-holzheim.de/index.php/component/dpcalendar/event/237?calid=17
DESCRIPTION:eine "anrüchige" dörfliche Komödie in vier Akten von\NMichael Henschke\NKurzbeschreibung: Durch die Entdeckung der Heilkräfte des Kuhmistes ist das Dorf Steinenberg zum Kurort avanciert. Man erwartet die ersten Kurgäste, die man angemessen empfangen möchte. Doch die gemeinsamen Anwendungen bei Männer und Frauen scheinen manchem moralisch bedenklich, und auch in der Beurteilung der Gastronomie gehen die Meinungen auseinander. Für den Gastwirt und Bürgermeister Eugen Trutzinger jagt ein Problem das andere; es gibt eben keine Kur ohne Nebenwirkungen.\NEine deftige Komödie, die die Lachmuskeln der Besucher wieder strapazieren wird. Wir freuen uns schon heute auf Ihren Besuch. \NIhre Theatergruppe\N"Lampenfieber"
X-ALT-DESC;FMTTYPE=text/html:<p style="text-align: center;">eine "anrüchige" dörfliche Komödie in vier Akten von</p><p style="text-align: center;"><strong>Michael Henschke</strong></p><p style="text-align: center;">Kurzbeschreibung: Durch die Entdeckung der Heilkräfte des Kuhmistes ist das Dorf Steinenberg zum Kurort avanciert. Man erwartet die ersten Kurgäste, die man angemessen empfangen möchte. Doch die gemeinsamen Anwendungen bei Männer und Frauen scheinen manchem moralisch bedenklich, und auch in der Beurteilung der Gastronomie gehen die Meinungen auseinander. Für den Gastwirt und Bürgermeister Eugen Trutzinger jagt ein Problem das andere; es gibt eben keine Kur ohne Nebenwirkungen.</p><p style="text-align: center;">Eine deftige Komödie, die die Lachmuskeln der Besucher wieder strapazieren wird. Wir freuen uns schon heute auf Ihren Besuch. </p><p style="text-align: center;"><span style="color: #000000; font-size: 12.16px;">Ihre Theatergruppe</span></p><div style="text-align: center;"><span style="color: #000000;">"Lampenfieber"</span></div>
LAST-MODIFIED:20171102T194823Z
SEQUENCE:332
LOCATION:17 Hauptstraße\, Holzheim\, Bayern 89291\, Deutschland
GEO:48.37973000;10.10696000
X-LOCATION-DISPLAYNAME:TSV Halle
X-ACCESS:1
X-HITS:522
X-COLOR:0007CC
X-SHOW-END-TIME:1
END:VEVENT
BEGIN:VEVENT
DTSTART;TZID=Europe/Berlin:20190104T193000
DTEND;TZID=Europe/Berlin:20190104T220000
UID:4A207455-ACC4-4A12-9D3F-53206C84C44C
SUMMARY:Theater: Wenn die Sterne lügen
CREATED:20181210T204137Z
DTSTAMP:20181210T204137Z
URL:https://www.tsv-holzheim.de/index.php/component/dpcalendar/event/411?calid=17
LAST-MODIFIED:20181210T204229Z
SEQUENCE:52
LOCATION:17 Hauptstraße\, Holzheim\, Bayern 89291\, Deutschland
GEO:48.37973000;10.10696000
X-LOCATION-DISPLAYNAME:TSV Halle
X-ACCESS:1
X-HITS:357
X-COLOR:0007CC
X-SHOW-END-TIME:1
END:VEVENT
BEGIN:VEVENT
DTSTART;TZID=Europe/Berlin:20190105T193000
DTEND;TZID=Europe/Berlin:20190105T220000
UID:964FFD48-FBF7-4C4C-AE7A-730E32D84AC0
SUMMARY:Theater: Wenn die Sterne lügen
CREATED:20181210T204403Z
DTSTAMP:20181210T204403Z
URL:https://www.tsv-holzheim.de/index.php/component/dpcalendar/event/412?calid=17
LOCATION:17 Hauptstraße\, Holzheim\, Bayern 89291\, Deutschland
GEO:48.37973000;10.10696000
X-LOCATION-DISPLAYNAME:TSV Halle
X-ACCESS:1
X-HITS:445
X-COLOR:0007CC
X-SHOW-END-TIME:1
END:VEVENT
BEGIN:VEVENT
DTSTART;TZID=Europe/Berlin:20190106T180000
DTEND;TZID=Europe/Berlin:20190106T203000
UID:B0084B65-7564-4FB5-BE42-1218E8C4E6CF
SUMMARY:Theater: Wenn die Sterne lügen
CREATED:20181210T204521Z
DTSTAMP:20181210T204521Z
URL:https://www.tsv-holzheim.de/index.php/component/dpcalendar/event/413?calid=17
LOCATION:17 Hauptstraße\, Holzheim\, Bayern 89291\, Deutschland
GEO:48.37973000;10.10696000
X-LOCATION-DISPLAYNAME:TSV Halle
X-ACCESS:1
X-HITS:499
X-COLOR:0007CC
X-SHOW-END-TIME:1
END:VEVENT
BEGIN:VEVENT
DTSTART;TZID=Europe/Berlin:20190111T193000
DTEND;TZID=Europe/Berlin:20190111T220000
UID:91A91B20-0108-428B-B66F-51895CD1E228
SUMMARY:Theater: Wenn die Sterne lügen
CREATED:20181210T204616Z
DTSTAMP:20181210T204616Z
URL:https://www.tsv-holzheim.de/index.php/component/dpcalendar/event/414?calid=17
LOCATION:17 Hauptstraße\, Holzheim\, Bayern 89291\, Deutschland
GEO:48.37973000;10.10696000
X-LOCATION-DISPLAYNAME:TSV Halle
X-ACCESS:1
X-HITS:537
X-COLOR:0007CC
X-SHOW-END-TIME:1
END:VEVENT
BEGIN:VEVENT
DTSTART;TZID=Europe/Berlin:20190112T193000
DTEND;TZID=Europe/Berlin:20190112T220000
UID:DE04630B-BDA0-4F62-9A71-F55AB473EB3D
SUMMARY:Theater: Wenn die Sterne lügen
CREATED:20181210T204646Z
DTSTAMP:20181210T204646Z
URL:https://www.tsv-holzheim.de/index.php/component/dpcalendar/event/415?calid=17
LOCATION:17 Hauptstraße\, Holzheim\, Bayern 89291\, Deutschland
GEO:48.37973000;10.10696000
X-LOCATION-DISPLAYNAME:TSV Halle
X-ACCESS:1
X-HITS:525
X-COLOR:0007CC
X-SHOW-END-TIME:1
END:VEVENT
BEGIN:VEVENT
DTSTART;TZID=Europe/Berlin:20200104T193000
DTEND;TZID=Europe/Berlin:20200104T220000
UID:77A5B89E-1B6F-44C4-B804-21B8DCDCCCD6
SUMMARY:Wellness für Ku(h)wait
CREATED:20191226T165540Z
DTSTAMP:20191226T165540Z
URL:https://www.tsv-holzheim.de/index.php/component/dpcalendar/event/507?calid=17
X-ACCESS:1
X-HITS:370
X-COLOR:0007CC
X-SHOW-END-TIME:1
END:VEVENT
BEGIN:VEVENT
DTSTART;TZID=Europe/Berlin:20200105T180000
DTEND;TZID=Europe/Berlin:20200105T213000
UID:FAB9ABCF-BE82-40B7-AB61-74CF6B89BA88
SUMMARY:Wellness für Ku(h)wait
CREATED:20191226T165614Z
DTSTAMP:20191226T165614Z
URL:https://www.tsv-holzheim.de/index.php/component/dpcalendar/event/508?calid=17
X-ACCESS:1
X-HITS:313
X-COLOR:0007CC
X-SHOW-END-TIME:1
END:VEVENT
BEGIN:VEVENT
DTSTART;TZID=Europe/Berlin:20200106T180000
DTEND;TZID=Europe/Berlin:20200106T213000
UID:57AB3FE3-5FBB-474D-A31E-B7BBC8A5D02F
SUMMARY:Wellness für Ku(h)wait
CREATED:20191226T165703Z
DTSTAMP:20191226T165703Z
URL:https://www.tsv-holzheim.de/index.php/component/dpcalendar/event/509?calid=17
X-ACCESS:1
X-HITS:406
X-COLOR:0007CC
X-SHOW-END-TIME:1
END:VEVENT
BEGIN:VEVENT
DTSTART;TZID=Europe/Berlin:20200110T193000
DTEND;TZID=Europe/Berlin:20200110T220000
UID:540DA760-5BDB-4D64-8547-7D2C67231AE7
SUMMARY:Wellness für Ku(h)wait
CREATED:20191226T165746Z
DTSTAMP:20191226T165746Z
URL:https://www.tsv-holzheim.de/index.php/component/dpcalendar/event/510?calid=17
X-ACCESS:1
X-HITS:369
X-COLOR:0007CC
X-SHOW-END-TIME:1
END:VEVENT
BEGIN:VEVENT
DTSTART;TZID=Europe/Berlin:20200111T193000
DTEND;TZID=Europe/Berlin:20200111T220000
UID:5BC73F37-B9B1-4C54-8C1A-2EB8F6FC1EDA
SUMMARY:Wellness für Ku(h)wait
CREATED:20191226T165808Z
DTSTAMP:20191226T165808Z
URL:https://www.tsv-holzheim.de/index.php/component/dpcalendar/event/511?calid=17
X-ACCESS:1
X-HITS:407
X-COLOR:0007CC
X-SHOW-END-TIME:1
END:VEVENT
BEGIN:VEVENT
DTSTART;TZID=Europe/Berlin:20231209T100000
DTEND;TZID=Europe/Berlin:20231209T110000
UID:3FAC9A99-E6B2-4571-B2B2-F7B810C8D345
SUMMARY:Theater: Kartenvorverkauf
CREATED:20231029T113321Z
DTSTAMP:20231029T113321Z
URL:https://www.tsv-holzheim.de/index.php/component/dpcalendar/event/769?calid=17
DESCRIPTION:Theater
X-ALT-DESC;FMTTYPE=text/html:<p><a href="index.php?Itemid=146">Theater</a></p>
LAST-MODIFIED:20231126T130851Z
SEQUENCE:2424930
LOCATION:17 Hauptstraße\, Holzheim\, Bayern 89291\, Deutschland
GEO:48.37973000;10.10696000
X-LOCATION-DISPLAYNAME:TSV Halle
X-ACCESS:1
X-HITS:1214
X-COLOR:0007CC
X-SHOW-END-TIME:1
END:VEVENT
BEGIN:VEVENT
DTSTART;TZID=Europe/Berlin:20240105T193000
DTEND;TZID=Europe/Berlin:20240105T223000
UID:581BABF7-9E5C-4833-BEC5-347410DCBC80
SUMMARY:Theater: Aufführung: Ein Doppelzimmer für fünf!
CREATED:20231126T124423Z
DTSTAMP:20231126T124423Z
URL:https://www.tsv-holzheim.de/index.php/component/dpcalendar/event/770?calid=17
DESCRIPTION:Theater
X-ALT-DESC;FMTTYPE=text/html:<p><a href="index.php?Itemid=146">Theater</a></p>
LAST-MODIFIED:20231126T130318Z
SEQUENCE:1135
X-ACCESS:1
X-HITS:548
X-COLOR:0007CC
X-SHOW-END-TIME:0
END:VEVENT
BEGIN:VEVENT
DTSTART;TZID=Europe/Berlin:20240106T180000
DTEND;TZID=Europe/Berlin:20240106T210000
UID:27D1F54A-7E34-48B1-A5F1-82EF243DB7CA
SUMMARY:Theater: Aufführung: Ein Doppelzimmer für fünf!
CREATED:20231126T124540Z
DTSTAMP:20231126T124540Z
URL:https://www.tsv-holzheim.de/index.php/component/dpcalendar/event/771?calid=17
DESCRIPTION:Theater
X-ALT-DESC;FMTTYPE=text/html:<p><a href="index.php?Itemid=146">Theater</a></p>
LAST-MODIFIED:20231126T130349Z
SEQUENCE:1089
X-ACCESS:1
X-HITS:597
X-COLOR:0007CC
X-SHOW-END-TIME:0
END:VEVENT
BEGIN:VEVENT
DTSTART;TZID=Europe/Berlin:20240107T180000
DTEND;TZID=Europe/Berlin:20240107T210000
UID:090FF8D1-6617-496D-AB27-B9B251AF46A3
SUMMARY:Theater: Aufführung: Ein Doppelzimmer für fünf!
CREATED:20231126T124540Z
DTSTAMP:20231126T124540Z
URL:https://www.tsv-holzheim.de/index.php/component/dpcalendar/event/772?calid=17
DESCRIPTION:Theater
X-ALT-DESC;FMTTYPE=text/html:<p><a href="index.php?Itemid=146">Theater</a></p>
LAST-MODIFIED:20231126T130420Z
SEQUENCE:1120
X-ACCESS:1
X-HITS:606
X-COLOR:0007CC
X-SHOW-END-TIME:0
END:VEVENT
BEGIN:VEVENT
DTSTART;TZID=Europe/Berlin:20240112T193000
DTEND;TZID=Europe/Berlin:20240112T223000
UID:4A30E18E-4FC8-4213-8FFD-900DCBF88024
SUMMARY:Theater: Aufführung: Ein Doppelzimmer für fünf!
CREATED:20231126T124540Z
DTSTAMP:20231126T124540Z
URL:https://www.tsv-holzheim.de/index.php/component/dpcalendar/event/773?calid=17
DESCRIPTION:Theater
X-ALT-DESC;FMTTYPE=text/html:<p><a href="index.php?Itemid=146">Theater</a></p>
LAST-MODIFIED:20231126T130433Z
SEQUENCE:1133
X-ACCESS:1
X-HITS:522
X-COLOR:0007CC
X-SHOW-END-TIME:0
END:VEVENT
BEGIN:VEVENT
DTSTART;TZID=Europe/Berlin:20240113T193000
DTEND;TZID=Europe/Berlin:20240113T223000
UID:43342B97-2579-42EE-A113-9263FF08CD03
SUMMARY:Theater: Aufführung: Ein Doppelzimmer für fünf!
CREATED:20231126T124540Z
DTSTAMP:20231126T124540Z
URL:https://www.tsv-holzheim.de/index.php/component/dpcalendar/event/774?calid=17
DESCRIPTION:Theater
X-ALT-DESC;FMTTYPE=text/html:<p><a href="index.php?Itemid=146">Theater</a></p>
LAST-MODIFIED:20231126T130449Z
SEQUENCE:1149
X-ACCESS:1
X-HITS:831
X-COLOR:0007CC
X-SHOW-END-TIME:0
END:VEVENT
BEGIN:VEVENT
DTSTART;TZID=Europe/Berlin:20241207T090000
DTEND;TZID=Europe/Berlin:20241207T100000
UID:0F478B0D-22C0-467E-A73F-A7DA278A1873
SUMMARY:Kartenvorverkauf TSV-Halle
CREATED:20241026T142255Z
DTSTAMP:20241026T142255Z
URL:https://www.tsv-holzheim.de/index.php/component/dpcalendar/event/793?calid=17
X-ACCESS:1
X-HITS:673
X-COLOR:0007CC
X-SHOW-END-TIME:1
END:VEVENT
BEGIN:VEVENT
DTSTART;TZID=Europe/Berlin:20250104T193000
DTEND;TZID=Europe/Berlin:20250104T203000
UID:13C779BF-6C28-47AE-84CF-4E1590A4AA72
SUMMARY:Theater: Aufführung: Heiliger Antonius !
CREATED:20241026T135147Z
DTSTAMP:20241026T135147Z
URL:https://www.tsv-holzheim.de/index.php/component/dpcalendar/event/788?calid=17
X-ACCESS:1
X-HITS:792
X-COLOR:0007CC
X-SHOW-END-TIME:0
END:VEVENT
BEGIN:VEVENT
DTSTART;TZID=Europe/Berlin:20250105T180000
DTEND;TZID=Europe/Berlin:20250105T190000
UID:B7DA6E1B-F8B8-4504-89E4-F6C12E5A4E12
SUMMARY:Theater: Aufführung: Heiliger Antonius !
CREATED:20241026T135228Z
DTSTAMP:20241026T135228Z
URL:https://www.tsv-holzheim.de/index.php/component/dpcalendar/event/789?calid=17
LAST-MODIFIED:20241026T141423Z
SEQUENCE:1315
X-ACCESS:1
X-HITS:764
X-COLOR:0007CC
X-SHOW-END-TIME:0
END:VEVENT
BEGIN:VEVENT
DTSTART;TZID=Europe/Berlin:20250106T180000
DTEND;TZID=Europe/Berlin:20250106T183000
UID:E97A2AF5-8EA9-4D91-B225-BBAF209B2F57
SUMMARY:Theater: Aufführung: Heiliger Antonius !
CREATED:20241026T141802Z
DTSTAMP:20241026T141802Z
URL:https://www.tsv-holzheim.de/index.php/component/dpcalendar/event/790?calid=17
LAST-MODIFIED:20241026T141907Z
SEQUENCE:65
X-ACCESS:1
X-HITS:692
X-COLOR:0007CC
X-SHOW-END-TIME:0
END:VEVENT
BEGIN:VEVENT
DTSTART;TZID=Europe/Berlin:20250110T193000
DTEND;TZID=Europe/Berlin:20250110T200000
UID:F4A966C9-CAE6-419B-9E67-FDF5572FA7B8
SUMMARY:Theater: Aufführung: Heiliger Antonius !
CREATED:20241026T142017Z
DTSTAMP:20241026T142017Z
URL:https://www.tsv-holzheim.de/index.php/component/dpcalendar/event/791?calid=17
LAST-MODIFIED:20241026T142046Z
SEQUENCE:29
X-ACCESS:1
X-HITS:724
X-COLOR:0007CC
X-SHOW-END-TIME:0
END:VEVENT
BEGIN:VEVENT
DTSTART;TZID=Europe/Berlin:20250111T193000
DTEND;TZID=Europe/Berlin:20250111T200000
UID:08AFB096-65AC-47A0-A2CD-D4954809D7AF
SUMMARY:Theater: Aufführung: Heiliger Antonius !
CREATED:20241026T142140Z
DTSTAMP:20241026T142140Z
URL:https://www.tsv-holzheim.de/index.php/component/dpcalendar/event/792?calid=17
LAST-MODIFIED:20241026T142156Z
SEQUENCE:16
X-ACCESS:1
X-HITS:476
X-COLOR:0007CC
X-SHOW-END-TIME:0
END:VEVENT
BEGIN:VEVENT
DTSTART;TZID=Europe/Berlin:20251206T100000
DTEND;TZID=Europe/Berlin:20251206T110000
UID:3314C742-61AA-48D2-908C-C1423A28AF93
SUMMARY:Kartenvorverkauf TSV-Halle
CREATED:20251013T073243Z
DTSTAMP:20251013T073243Z
URL:https://www.tsv-holzheim.de/index.php/component/dpcalendar/event/803?calid=17
LAST-MODIFIED:20251013T073436Z
SEQUENCE:113
X-ACCESS:1
X-HITS:573
X-COLOR:0007CC
X-SHOW-END-TIME:1
END:VEVENT
BEGIN:VEVENT
DTSTART;TZID=Europe/Berlin:20260109T193000
DTEND;TZID=Europe/Berlin:20260109T220000
UID:F0149219-A7BD-4CEF-BD57-153D800C1956
SUMMARY:Premiere
CREATED:20251013T073816Z
DTSTAMP:20251013T073816Z
URL:https://www.tsv-holzheim.de/index.php/component/dpcalendar/event/804?calid=17
LAST-MODIFIED:20251013T074538Z
SEQUENCE:442
X-ACCESS:1
X-HITS:869
X-COLOR:0007CC
X-SHOW-END-TIME:1
END:VEVENT
BEGIN:VEVENT
DTSTART;TZID=Europe/Berlin:20260110T180000
DTEND;TZID=Europe/Berlin:20260110T200000
UID:1F570309-5A05-47E7-A75E-3A9964099F82
SUMMARY:2. Aufführung
CREATED:20251013T073925Z
DTSTAMP:20251013T073925Z
URL:https://www.tsv-holzheim.de/index.php/component/dpcalendar/event/805?calid=17
X-ACCESS:1
X-HITS:599
X-COLOR:0007CC
X-SHOW-END-TIME:1
END:VEVENT
BEGIN:VEVENT
DTSTART;TZID=Europe/Berlin:20260111T180000
DTEND;TZID=Europe/Berlin:20260111T200000
UID:A948C78C-E8F4-4550-8AD7-6AFFD8EDD605
SUMMARY:3. Aufführung
CREATED:20251013T073950Z
DTSTAMP:20251013T073950Z
URL:https://www.tsv-holzheim.de/index.php/component/dpcalendar/event/806?calid=17
LAST-MODIFIED:20251013T074047Z
SEQUENCE:57
X-ACCESS:1
X-HITS:598
X-COLOR:0007CC
X-SHOW-END-TIME:1
END:VEVENT
BEGIN:VEVENT
DTSTART;TZID=Europe/Berlin:20260116T193000
DTEND;TZID=Europe/Berlin:20260116T220000
UID:9CA48F95-0637-4183-A1A9-8F6271AD9DAD
SUMMARY:4. Aufführung
CREATED:20251013T074127Z
DTSTAMP:20251013T074127Z
URL:https://www.tsv-holzheim.de/index.php/component/dpcalendar/event/807?calid=17
X-ACCESS:1
X-HITS:548
X-COLOR:0007CC
X-SHOW-END-TIME:1
END:VEVENT
BEGIN:VEVENT
DTSTART;TZID=Europe/Berlin:20260117T193000
DTEND;TZID=Europe/Berlin:20260117T220000
UID:A6C8B68E-9513-4B34-ABCB-7BD481DD1B44
SUMMARY:5. Aufführung
CREATED:20251013T074201Z
DTSTAMP:20251013T074201Z
URL:https://www.tsv-holzheim.de/index.php/component/dpcalendar/event/808?calid=17
X-ACCESS:1
X-HITS:416
X-COLOR:0007CC
X-SHOW-END-TIME:1
END:VEVENT
END:VCALENDAR